BEGIN:VCALENDAR
VERSION:2.0
PRODID:-//Future Army Officers - ECPv6.15.14//NONSGML v1.0//EN
CALSCALE:GREGORIAN
METHOD:PUBLISH
X-ORIGINAL-URL:https://futurearmyofficers.com
X-WR-CALDESC:Events for Future Army Officers
REFRESH-INTERVAL;VALUE=DURATION:PT1H
X-Robots-Tag:noindex
X-PUBLISHED-TTL:PT1H
BEGIN:VTIMEZONE
TZID:Europe/Paris
BEGIN:DAYLIGHT
TZOFFSETFROM:+0100
TZOFFSETTO:+0200
TZNAME:CEST
DTSTART:20290325T010000
END:DAYLIGHT
BEGIN:STANDARD
TZOFFSETFROM:+0200
TZOFFSETTO:+0100
TZNAME:CET
DTSTART:20291028T010000
END:STANDARD
BEGIN:DAYLIGHT
TZOFFSETFROM:+0100
TZOFFSETTO:+0200
TZNAME:CEST
DTSTART:20300331T010000
END:DAYLIGHT
BEGIN:STANDARD
TZOFFSETFROM:+0200
TZOFFSETTO:+0100
TZNAME:CET
DTSTART:20301027T010000
END:STANDARD
BEGIN:DAYLIGHT
TZOFFSETFROM:+0100
TZOFFSETTO:+0200
TZNAME:CEST
DTSTART:20310330T010000
END:DAYLIGHT
BEGIN:STANDARD
TZOFFSETFROM:+0200
TZOFFSETTO:+0100
TZNAME:CET
DTSTART:20311026T010000
END:STANDARD
END:VTIMEZONE
BEGIN:VEVENT
DTSTART;TZID=Europe/Paris:20300709T080000
DTEND;TZID=Europe/Paris:20300709T170000
DTSTAMP:20260420T093101
CREATED:20260125T034718Z
LAST-MODIFIED:20260125T034718Z
UID:10000502-1909814400-1909846800@futurearmyofficers.com
SUMMARY:Baking for beginners!
DESCRIPTION:This is where you learn how to bake!
URL:https://futurearmyofficers.com/event/baking-for-beginners/2030-07-09/
LOCATION:Bob’s Bakery\, N 789 nowhere special\, Anytown\, PA\, 55555\, United States
CATEGORIES:Classes
END:VEVENT
BEGIN:VEVENT
DTSTART;TZID=Europe/Paris:20300713T140000
DTEND;TZID=Europe/Paris:20300713T170000
DTSTAMP:20260420T093101
CREATED:20260125T034453Z
LAST-MODIFIED:20260125T034839Z
UID:10000239-1910181600-1910192400@futurearmyofficers.com
SUMMARY:Dance lessons!
DESCRIPTION:
URL:https://futurearmyofficers.com/event/dance-lessons/2030-07-13/
LOCATION:Diana’s Dance Dormatory\, N 456 nowhere special\, Anytown\, PA\, 55555\, United States
CATEGORIES:Classes
END:VEVENT
BEGIN:VEVENT
DTSTART;TZID=Europe/Paris:20300716T080000
DTEND;TZID=Europe/Paris:20300716T170000
DTSTAMP:20260420T093101
CREATED:20260125T034718Z
LAST-MODIFIED:20260125T034718Z
UID:10000503-1910419200-1910451600@futurearmyofficers.com
SUMMARY:Baking for beginners!
DESCRIPTION:This is where you learn how to bake!
URL:https://futurearmyofficers.com/event/baking-for-beginners/2030-07-16/
LOCATION:Bob’s Bakery\, N 789 nowhere special\, Anytown\, PA\, 55555\, United States
CATEGORIES:Classes
END:VEVENT
BEGIN:VEVENT
DTSTART;TZID=Europe/Paris:20300720T140000
DTEND;TZID=Europe/Paris:20300720T170000
DTSTAMP:20260420T093101
CREATED:20260125T034453Z
LAST-MODIFIED:20260125T034839Z
UID:10000240-1910786400-1910797200@futurearmyofficers.com
SUMMARY:Dance lessons!
DESCRIPTION:
URL:https://futurearmyofficers.com/event/dance-lessons/2030-07-20/
LOCATION:Diana’s Dance Dormatory\, N 456 nowhere special\, Anytown\, PA\, 55555\, United States
CATEGORIES:Classes
END:VEVENT
BEGIN:VEVENT
DTSTART;TZID=Europe/Paris:20300723T080000
DTEND;TZID=Europe/Paris:20300723T170000
DTSTAMP:20260420T093101
CREATED:20260125T034718Z
LAST-MODIFIED:20260125T034718Z
UID:10000504-1911024000-1911056400@futurearmyofficers.com
SUMMARY:Baking for beginners!
DESCRIPTION:This is where you learn how to bake!
URL:https://futurearmyofficers.com/event/baking-for-beginners/2030-07-23/
LOCATION:Bob’s Bakery\, N 789 nowhere special\, Anytown\, PA\, 55555\, United States
CATEGORIES:Classes
END:VEVENT
BEGIN:VEVENT
DTSTART;TZID=Europe/Paris:20300727T140000
DTEND;TZID=Europe/Paris:20300727T170000
DTSTAMP:20260420T093101
CREATED:20260125T034453Z
LAST-MODIFIED:20260125T034839Z
UID:10000241-1911391200-1911402000@futurearmyofficers.com
SUMMARY:Dance lessons!
DESCRIPTION:
URL:https://futurearmyofficers.com/event/dance-lessons/2030-07-27/
LOCATION:Diana’s Dance Dormatory\, N 456 nowhere special\, Anytown\, PA\, 55555\, United States
CATEGORIES:Classes
END:VEVENT
BEGIN:VEVENT
DTSTART;TZID=Europe/Paris:20300730T080000
DTEND;TZID=Europe/Paris:20300730T170000
DTSTAMP:20260420T093101
CREATED:20260125T034718Z
LAST-MODIFIED:20260125T034718Z
UID:10000505-1911628800-1911661200@futurearmyofficers.com
SUMMARY:Baking for beginners!
DESCRIPTION:This is where you learn how to bake!
URL:https://futurearmyofficers.com/event/baking-for-beginners/2030-07-30/
LOCATION:Bob’s Bakery\, N 789 nowhere special\, Anytown\, PA\, 55555\, United States
CATEGORIES:Classes
END:VEVENT
BEGIN:VEVENT
DTSTART;TZID=Europe/Paris:20300803T140000
DTEND;TZID=Europe/Paris:20300803T170000
DTSTAMP:20260420T093101
CREATED:20260125T034453Z
LAST-MODIFIED:20260125T034839Z
UID:10000242-1911996000-1912006800@futurearmyofficers.com
SUMMARY:Dance lessons!
DESCRIPTION:
URL:https://futurearmyofficers.com/event/dance-lessons/2030-08-03/
LOCATION:Diana’s Dance Dormatory\, N 456 nowhere special\, Anytown\, PA\, 55555\, United States
CATEGORIES:Classes
END:VEVENT
BEGIN:VEVENT
DTSTART;TZID=Europe/Paris:20300806T080000
DTEND;TZID=Europe/Paris:20300806T170000
DTSTAMP:20260420T093101
CREATED:20260125T034718Z
LAST-MODIFIED:20260125T034718Z
UID:10000506-1912233600-1912266000@futurearmyofficers.com
SUMMARY:Baking for beginners!
DESCRIPTION:This is where you learn how to bake!
URL:https://futurearmyofficers.com/event/baking-for-beginners/2030-08-06/
LOCATION:Bob’s Bakery\, N 789 nowhere special\, Anytown\, PA\, 55555\, United States
CATEGORIES:Classes
END:VEVENT
BEGIN:VEVENT
DTSTART;TZID=Europe/Paris:20300810T140000
DTEND;TZID=Europe/Paris:20300810T170000
DTSTAMP:20260420T093101
CREATED:20260125T034453Z
LAST-MODIFIED:20260125T034839Z
UID:10000243-1912600800-1912611600@futurearmyofficers.com
SUMMARY:Dance lessons!
DESCRIPTION:
URL:https://futurearmyofficers.com/event/dance-lessons/2030-08-10/
LOCATION:Diana’s Dance Dormatory\, N 456 nowhere special\, Anytown\, PA\, 55555\, United States
CATEGORIES:Classes
END:VEVENT
BEGIN:VEVENT
DTSTART;TZID=Europe/Paris:20300813T080000
DTEND;TZID=Europe/Paris:20300813T170000
DTSTAMP:20260420T093101
CREATED:20260125T034718Z
LAST-MODIFIED:20260125T034718Z
UID:10000507-1912838400-1912870800@futurearmyofficers.com
SUMMARY:Baking for beginners!
DESCRIPTION:This is where you learn how to bake!
URL:https://futurearmyofficers.com/event/baking-for-beginners/2030-08-13/
LOCATION:Bob’s Bakery\, N 789 nowhere special\, Anytown\, PA\, 55555\, United States
CATEGORIES:Classes
END:VEVENT
BEGIN:VEVENT
DTSTART;TZID=Europe/Paris:20300817T140000
DTEND;TZID=Europe/Paris:20300817T170000
DTSTAMP:20260420T093101
CREATED:20260125T034453Z
LAST-MODIFIED:20260125T034839Z
UID:10000244-1913205600-1913216400@futurearmyofficers.com
SUMMARY:Dance lessons!
DESCRIPTION:
URL:https://futurearmyofficers.com/event/dance-lessons/2030-08-17/
LOCATION:Diana’s Dance Dormatory\, N 456 nowhere special\, Anytown\, PA\, 55555\, United States
CATEGORIES:Classes
END:VEVENT
BEGIN:VEVENT
DTSTART;TZID=Europe/Paris:20300820T080000
DTEND;TZID=Europe/Paris:20300820T170000
DTSTAMP:20260420T093101
CREATED:20260125T034718Z
LAST-MODIFIED:20260125T034718Z
UID:10000508-1913443200-1913475600@futurearmyofficers.com
SUMMARY:Baking for beginners!
DESCRIPTION:This is where you learn how to bake!
URL:https://futurearmyofficers.com/event/baking-for-beginners/2030-08-20/
LOCATION:Bob’s Bakery\, N 789 nowhere special\, Anytown\, PA\, 55555\, United States
CATEGORIES:Classes
END:VEVENT
BEGIN:VEVENT
DTSTART;TZID=Europe/Paris:20300824T140000
DTEND;TZID=Europe/Paris:20300824T170000
DTSTAMP:20260420T093101
CREATED:20260125T034453Z
LAST-MODIFIED:20260125T034839Z
UID:10000245-1913810400-1913821200@futurearmyofficers.com
SUMMARY:Dance lessons!
DESCRIPTION:
URL:https://futurearmyofficers.com/event/dance-lessons/2030-08-24/
LOCATION:Diana’s Dance Dormatory\, N 456 nowhere special\, Anytown\, PA\, 55555\, United States
CATEGORIES:Classes
END:VEVENT
BEGIN:VEVENT
DTSTART;TZID=Europe/Paris:20300827T080000
DTEND;TZID=Europe/Paris:20300827T170000
DTSTAMP:20260420T093101
CREATED:20260125T034718Z
LAST-MODIFIED:20260125T034718Z
UID:10000509-1914048000-1914080400@futurearmyofficers.com
SUMMARY:Baking for beginners!
DESCRIPTION:This is where you learn how to bake!
URL:https://futurearmyofficers.com/event/baking-for-beginners/2030-08-27/
LOCATION:Bob’s Bakery\, N 789 nowhere special\, Anytown\, PA\, 55555\, United States
CATEGORIES:Classes
END:VEVENT
BEGIN:VEVENT
DTSTART;TZID=Europe/Paris:20300831T140000
DTEND;TZID=Europe/Paris:20300831T170000
DTSTAMP:20260420T093101
CREATED:20260125T034453Z
LAST-MODIFIED:20260125T034839Z
UID:10000246-1914415200-1914426000@futurearmyofficers.com
SUMMARY:Dance lessons!
DESCRIPTION:
URL:https://futurearmyofficers.com/event/dance-lessons/2030-08-31/
LOCATION:Diana’s Dance Dormatory\, N 456 nowhere special\, Anytown\, PA\, 55555\, United States
CATEGORIES:Classes
END:VEVENT
BEGIN:VEVENT
DTSTART;TZID=Europe/Paris:20300903T080000
DTEND;TZID=Europe/Paris:20300903T170000
DTSTAMP:20260420T093101
CREATED:20260125T034718Z
LAST-MODIFIED:20260125T034718Z
UID:10000510-1914652800-1914685200@futurearmyofficers.com
SUMMARY:Baking for beginners!
DESCRIPTION:This is where you learn how to bake!
URL:https://futurearmyofficers.com/event/baking-for-beginners/2030-09-03/
LOCATION:Bob’s Bakery\, N 789 nowhere special\, Anytown\, PA\, 55555\, United States
CATEGORIES:Classes
END:VEVENT
BEGIN:VEVENT
DTSTART;TZID=Europe/Paris:20300907T140000
DTEND;TZID=Europe/Paris:20300907T170000
DTSTAMP:20260420T093101
CREATED:20260125T034453Z
LAST-MODIFIED:20260125T034839Z
UID:10000247-1915020000-1915030800@futurearmyofficers.com
SUMMARY:Dance lessons!
DESCRIPTION:
URL:https://futurearmyofficers.com/event/dance-lessons/2030-09-07/
LOCATION:Diana’s Dance Dormatory\, N 456 nowhere special\, Anytown\, PA\, 55555\, United States
CATEGORIES:Classes
END:VEVENT
BEGIN:VEVENT
DTSTART;TZID=Europe/Paris:20300910T080000
DTEND;TZID=Europe/Paris:20300910T170000
DTSTAMP:20260420T093101
CREATED:20260125T034718Z
LAST-MODIFIED:20260125T034718Z
UID:10000511-1915257600-1915290000@futurearmyofficers.com
SUMMARY:Baking for beginners!
DESCRIPTION:This is where you learn how to bake!
URL:https://futurearmyofficers.com/event/baking-for-beginners/2030-09-10/
LOCATION:Bob’s Bakery\, N 789 nowhere special\, Anytown\, PA\, 55555\, United States
CATEGORIES:Classes
END:VEVENT
BEGIN:VEVENT
DTSTART;TZID=Europe/Paris:20300914T140000
DTEND;TZID=Europe/Paris:20300914T170000
DTSTAMP:20260420T093101
CREATED:20260125T034453Z
LAST-MODIFIED:20260125T034839Z
UID:10000248-1915624800-1915635600@futurearmyofficers.com
SUMMARY:Dance lessons!
DESCRIPTION:
URL:https://futurearmyofficers.com/event/dance-lessons/2030-09-14/
LOCATION:Diana’s Dance Dormatory\, N 456 nowhere special\, Anytown\, PA\, 55555\, United States
CATEGORIES:Classes
END:VEVENT
BEGIN:VEVENT
DTSTART;TZID=Europe/Paris:20300917T080000
DTEND;TZID=Europe/Paris:20300917T170000
DTSTAMP:20260420T093101
CREATED:20260125T034718Z
LAST-MODIFIED:20260125T034718Z
UID:10000512-1915862400-1915894800@futurearmyofficers.com
SUMMARY:Baking for beginners!
DESCRIPTION:This is where you learn how to bake!
URL:https://futurearmyofficers.com/event/baking-for-beginners/2030-09-17/
LOCATION:Bob’s Bakery\, N 789 nowhere special\, Anytown\, PA\, 55555\, United States
CATEGORIES:Classes
END:VEVENT
BEGIN:VEVENT
DTSTART;TZID=Europe/Paris:20300921T140000
DTEND;TZID=Europe/Paris:20300921T170000
DTSTAMP:20260420T093101
CREATED:20260125T034453Z
LAST-MODIFIED:20260125T034839Z
UID:10000249-1916229600-1916240400@futurearmyofficers.com
SUMMARY:Dance lessons!
DESCRIPTION:
URL:https://futurearmyofficers.com/event/dance-lessons/2030-09-21/
LOCATION:Diana’s Dance Dormatory\, N 456 nowhere special\, Anytown\, PA\, 55555\, United States
CATEGORIES:Classes
END:VEVENT
BEGIN:VEVENT
DTSTART;TZID=Europe/Paris:20300924T080000
DTEND;TZID=Europe/Paris:20300924T170000
DTSTAMP:20260420T093101
CREATED:20260125T034718Z
LAST-MODIFIED:20260125T034718Z
UID:10000513-1916467200-1916499600@futurearmyofficers.com
SUMMARY:Baking for beginners!
DESCRIPTION:This is where you learn how to bake!
URL:https://futurearmyofficers.com/event/baking-for-beginners/2030-09-24/
LOCATION:Bob’s Bakery\, N 789 nowhere special\, Anytown\, PA\, 55555\, United States
CATEGORIES:Classes
END:VEVENT
BEGIN:VEVENT
DTSTART;TZID=Europe/Paris:20300928T140000
DTEND;TZID=Europe/Paris:20300928T170000
DTSTAMP:20260420T093102
CREATED:20260125T034453Z
LAST-MODIFIED:20260125T034839Z
UID:10000250-1916834400-1916845200@futurearmyofficers.com
SUMMARY:Dance lessons!
DESCRIPTION:
URL:https://futurearmyofficers.com/event/dance-lessons/2030-09-28/
LOCATION:Diana’s Dance Dormatory\, N 456 nowhere special\, Anytown\, PA\, 55555\, United States
CATEGORIES:Classes
END:VEVENT
BEGIN:VEVENT
DTSTART;TZID=Europe/Paris:20301001T080000
DTEND;TZID=Europe/Paris:20301001T170000
DTSTAMP:20260420T093102
CREATED:20260125T034718Z
LAST-MODIFIED:20260125T034718Z
UID:10000514-1917072000-1917104400@futurearmyofficers.com
SUMMARY:Baking for beginners!
DESCRIPTION:This is where you learn how to bake!
URL:https://futurearmyofficers.com/event/baking-for-beginners/2030-10-01/
LOCATION:Bob’s Bakery\, N 789 nowhere special\, Anytown\, PA\, 55555\, United States
CATEGORIES:Classes
END:VEVENT
BEGIN:VEVENT
DTSTART;TZID=Europe/Paris:20301005T140000
DTEND;TZID=Europe/Paris:20301005T170000
DTSTAMP:20260420T093102
CREATED:20260125T034453Z
LAST-MODIFIED:20260125T034839Z
UID:10000251-1917439200-1917450000@futurearmyofficers.com
SUMMARY:Dance lessons!
DESCRIPTION:
URL:https://futurearmyofficers.com/event/dance-lessons/2030-10-05/
LOCATION:Diana’s Dance Dormatory\, N 456 nowhere special\, Anytown\, PA\, 55555\, United States
CATEGORIES:Classes
END:VEVENT
BEGIN:VEVENT
DTSTART;TZID=Europe/Paris:20301008T080000
DTEND;TZID=Europe/Paris:20301008T170000
DTSTAMP:20260420T093102
CREATED:20260125T034718Z
LAST-MODIFIED:20260125T034718Z
UID:10000515-1917676800-1917709200@futurearmyofficers.com
SUMMARY:Baking for beginners!
DESCRIPTION:This is where you learn how to bake!
URL:https://futurearmyofficers.com/event/baking-for-beginners/2030-10-08/
LOCATION:Bob’s Bakery\, N 789 nowhere special\, Anytown\, PA\, 55555\, United States
CATEGORIES:Classes
END:VEVENT
BEGIN:VEVENT
DTSTART;TZID=Europe/Paris:20301012T140000
DTEND;TZID=Europe/Paris:20301012T170000
DTSTAMP:20260420T093102
CREATED:20260125T034453Z
LAST-MODIFIED:20260125T034839Z
UID:10000252-1918044000-1918054800@futurearmyofficers.com
SUMMARY:Dance lessons!
DESCRIPTION:
URL:https://futurearmyofficers.com/event/dance-lessons/2030-10-12/
LOCATION:Diana’s Dance Dormatory\, N 456 nowhere special\, Anytown\, PA\, 55555\, United States
CATEGORIES:Classes
END:VEVENT
BEGIN:VEVENT
DTSTART;TZID=Europe/Paris:20301015T080000
DTEND;TZID=Europe/Paris:20301015T170000
DTSTAMP:20260420T093102
CREATED:20260125T034718Z
LAST-MODIFIED:20260125T034718Z
UID:10000516-1918281600-1918314000@futurearmyofficers.com
SUMMARY:Baking for beginners!
DESCRIPTION:This is where you learn how to bake!
URL:https://futurearmyofficers.com/event/baking-for-beginners/2030-10-15/
LOCATION:Bob’s Bakery\, N 789 nowhere special\, Anytown\, PA\, 55555\, United States
CATEGORIES:Classes
END:VEVENT
BEGIN:VEVENT
DTSTART;TZID=Europe/Paris:20301019T140000
DTEND;TZID=Europe/Paris:20301019T170000
DTSTAMP:20260420T093102
CREATED:20260125T034453Z
LAST-MODIFIED:20260125T034839Z
UID:10000253-1918648800-1918659600@futurearmyofficers.com
SUMMARY:Dance lessons!
DESCRIPTION:
URL:https://futurearmyofficers.com/event/dance-lessons/2030-10-19/
LOCATION:Diana’s Dance Dormatory\, N 456 nowhere special\, Anytown\, PA\, 55555\, United States
CATEGORIES:Classes
END:VEVENT
END:VCALENDAR