BEGIN:VCALENDAR
VERSION:2.0
PRODID:-//Future Army Officers - ECPv6.15.14//NONSGML v1.0//EN
CALSCALE:GREGORIAN
METHOD:PUBLISH
X-WR-CALNAME:Future Army Officers
X-ORIGINAL-URL:https://futurearmyofficers.com
X-WR-CALDESC:Events for Future Army Officers
REFRESH-INTERVAL;VALUE=DURATION:PT1H
X-Robots-Tag:noindex
X-PUBLISHED-TTL:PT1H
BEGIN:VTIMEZONE
TZID:Europe/Paris
BEGIN:DAYLIGHT
TZOFFSETFROM:+0100
TZOFFSETTO:+0200
TZNAME:CEST
DTSTART:20290325T010000
END:DAYLIGHT
BEGIN:STANDARD
TZOFFSETFROM:+0200
TZOFFSETTO:+0100
TZNAME:CET
DTSTART:20291028T010000
END:STANDARD
BEGIN:DAYLIGHT
TZOFFSETFROM:+0100
TZOFFSETTO:+0200
TZNAME:CEST
DTSTART:20300331T010000
END:DAYLIGHT
BEGIN:STANDARD
TZOFFSETFROM:+0200
TZOFFSETTO:+0100
TZNAME:CET
DTSTART:20301027T010000
END:STANDARD
BEGIN:DAYLIGHT
TZOFFSETFROM:+0100
TZOFFSETTO:+0200
TZNAME:CEST
DTSTART:20310330T010000
END:DAYLIGHT
BEGIN:STANDARD
TZOFFSETFROM:+0200
TZOFFSETTO:+0100
TZNAME:CET
DTSTART:20311026T010000
END:STANDARD
BEGIN:DAYLIGHT
TZOFFSETFROM:+0100
TZOFFSETTO:+0200
TZNAME:CEST
DTSTART:20320328T010000
END:DAYLIGHT
BEGIN:STANDARD
TZOFFSETFROM:+0200
TZOFFSETTO:+0100
TZNAME:CET
DTSTART:20321031T010000
END:STANDARD
END:VTIMEZONE
BEGIN:VEVENT
DTSTART;TZID=Europe/Paris:20301008T080000
DTEND;TZID=Europe/Paris:20301008T170000
DTSTAMP:20260419T213706
CREATED:20260125T034718Z
LAST-MODIFIED:20260125T034718Z
UID:10000515-1917676800-1917709200@futurearmyofficers.com
SUMMARY:Baking for beginners!
DESCRIPTION:This is where you learn how to bake!
URL:https://futurearmyofficers.com/event/baking-for-beginners/2030-10-08/
LOCATION:Bob’s Bakery\, N 789 nowhere special\, Anytown\, PA\, 55555\, United States
CATEGORIES:Classes
END:VEVENT
BEGIN:VEVENT
DTSTART;TZID=Europe/Paris:20301012T140000
DTEND;TZID=Europe/Paris:20301012T170000
DTSTAMP:20260419T213706
CREATED:20260125T034453Z
LAST-MODIFIED:20260125T034839Z
UID:10000252-1918044000-1918054800@futurearmyofficers.com
SUMMARY:Dance lessons!
DESCRIPTION:
URL:https://futurearmyofficers.com/event/dance-lessons/2030-10-12/
LOCATION:Diana’s Dance Dormatory\, N 456 nowhere special\, Anytown\, PA\, 55555\, United States
CATEGORIES:Classes
END:VEVENT
BEGIN:VEVENT
DTSTART;TZID=Europe/Paris:20301015T080000
DTEND;TZID=Europe/Paris:20301015T170000
DTSTAMP:20260419T213706
CREATED:20260125T034718Z
LAST-MODIFIED:20260125T034718Z
UID:10000516-1918281600-1918314000@futurearmyofficers.com
SUMMARY:Baking for beginners!
DESCRIPTION:This is where you learn how to bake!
URL:https://futurearmyofficers.com/event/baking-for-beginners/2030-10-15/
LOCATION:Bob’s Bakery\, N 789 nowhere special\, Anytown\, PA\, 55555\, United States
CATEGORIES:Classes
END:VEVENT
BEGIN:VEVENT
DTSTART;TZID=Europe/Paris:20301019T140000
DTEND;TZID=Europe/Paris:20301019T170000
DTSTAMP:20260419T213706
CREATED:20260125T034453Z
LAST-MODIFIED:20260125T034839Z
UID:10000253-1918648800-1918659600@futurearmyofficers.com
SUMMARY:Dance lessons!
DESCRIPTION:
URL:https://futurearmyofficers.com/event/dance-lessons/2030-10-19/
LOCATION:Diana’s Dance Dormatory\, N 456 nowhere special\, Anytown\, PA\, 55555\, United States
CATEGORIES:Classes
END:VEVENT
BEGIN:VEVENT
DTSTART;TZID=Europe/Paris:20301022T080000
DTEND;TZID=Europe/Paris:20301022T170000
DTSTAMP:20260419T213706
CREATED:20260125T034718Z
LAST-MODIFIED:20260125T034718Z
UID:10000517-1918886400-1918918800@futurearmyofficers.com
SUMMARY:Baking for beginners!
DESCRIPTION:This is where you learn how to bake!
URL:https://futurearmyofficers.com/event/baking-for-beginners/2030-10-22/
LOCATION:Bob’s Bakery\, N 789 nowhere special\, Anytown\, PA\, 55555\, United States
CATEGORIES:Classes
END:VEVENT
BEGIN:VEVENT
DTSTART;TZID=Europe/Paris:20301026T140000
DTEND;TZID=Europe/Paris:20301026T170000
DTSTAMP:20260419T213706
CREATED:20260125T034453Z
LAST-MODIFIED:20260125T034839Z
UID:10000254-1919253600-1919264400@futurearmyofficers.com
SUMMARY:Dance lessons!
DESCRIPTION:
URL:https://futurearmyofficers.com/event/dance-lessons/2030-10-26/
LOCATION:Diana’s Dance Dormatory\, N 456 nowhere special\, Anytown\, PA\, 55555\, United States
CATEGORIES:Classes
END:VEVENT
BEGIN:VEVENT
DTSTART;TZID=Europe/Paris:20301029T080000
DTEND;TZID=Europe/Paris:20301029T170000
DTSTAMP:20260419T213706
CREATED:20260125T034718Z
LAST-MODIFIED:20260125T034718Z
UID:10000518-1919491200-1919523600@futurearmyofficers.com
SUMMARY:Baking for beginners!
DESCRIPTION:This is where you learn how to bake!
URL:https://futurearmyofficers.com/event/baking-for-beginners/2030-10-29/
LOCATION:Bob’s Bakery\, N 789 nowhere special\, Anytown\, PA\, 55555\, United States
CATEGORIES:Classes
END:VEVENT
BEGIN:VEVENT
DTSTART;TZID=Europe/Paris:20301102T140000
DTEND;TZID=Europe/Paris:20301102T170000
DTSTAMP:20260419T213706
CREATED:20260125T034453Z
LAST-MODIFIED:20260125T034839Z
UID:10000255-1919858400-1919869200@futurearmyofficers.com
SUMMARY:Dance lessons!
DESCRIPTION:
URL:https://futurearmyofficers.com/event/dance-lessons/2030-11-02/
LOCATION:Diana’s Dance Dormatory\, N 456 nowhere special\, Anytown\, PA\, 55555\, United States
CATEGORIES:Classes
END:VEVENT
BEGIN:VEVENT
DTSTART;TZID=Europe/Paris:20301105T080000
DTEND;TZID=Europe/Paris:20301105T170000
DTSTAMP:20260419T213706
CREATED:20260125T034718Z
LAST-MODIFIED:20260125T034718Z
UID:10000519-1920096000-1920128400@futurearmyofficers.com
SUMMARY:Baking for beginners!
DESCRIPTION:This is where you learn how to bake!
URL:https://futurearmyofficers.com/event/baking-for-beginners/2030-11-05/
LOCATION:Bob’s Bakery\, N 789 nowhere special\, Anytown\, PA\, 55555\, United States
CATEGORIES:Classes
END:VEVENT
BEGIN:VEVENT
DTSTART;TZID=Europe/Paris:20301109T140000
DTEND;TZID=Europe/Paris:20301109T170000
DTSTAMP:20260419T213706
CREATED:20260125T034453Z
LAST-MODIFIED:20260125T034839Z
UID:10000256-1920463200-1920474000@futurearmyofficers.com
SUMMARY:Dance lessons!
DESCRIPTION:
URL:https://futurearmyofficers.com/event/dance-lessons/2030-11-09/
LOCATION:Diana’s Dance Dormatory\, N 456 nowhere special\, Anytown\, PA\, 55555\, United States
CATEGORIES:Classes
END:VEVENT
BEGIN:VEVENT
DTSTART;TZID=Europe/Paris:20301112T080000
DTEND;TZID=Europe/Paris:20301112T170000
DTSTAMP:20260419T213706
CREATED:20260125T034718Z
LAST-MODIFIED:20260125T034718Z
UID:10000520-1920700800-1920733200@futurearmyofficers.com
SUMMARY:Baking for beginners!
DESCRIPTION:This is where you learn how to bake!
URL:https://futurearmyofficers.com/event/baking-for-beginners/2030-11-12/
LOCATION:Bob’s Bakery\, N 789 nowhere special\, Anytown\, PA\, 55555\, United States
CATEGORIES:Classes
END:VEVENT
BEGIN:VEVENT
DTSTART;TZID=Europe/Paris:20301116T140000
DTEND;TZID=Europe/Paris:20301116T170000
DTSTAMP:20260419T213706
CREATED:20260125T034453Z
LAST-MODIFIED:20260125T034839Z
UID:10000257-1921068000-1921078800@futurearmyofficers.com
SUMMARY:Dance lessons!
DESCRIPTION:
URL:https://futurearmyofficers.com/event/dance-lessons/2030-11-16/
LOCATION:Diana’s Dance Dormatory\, N 456 nowhere special\, Anytown\, PA\, 55555\, United States
CATEGORIES:Classes
END:VEVENT
BEGIN:VEVENT
DTSTART;TZID=Europe/Paris:20301119T080000
DTEND;TZID=Europe/Paris:20301119T170000
DTSTAMP:20260419T213706
CREATED:20260125T034718Z
LAST-MODIFIED:20260125T034718Z
UID:10000521-1921305600-1921338000@futurearmyofficers.com
SUMMARY:Baking for beginners!
DESCRIPTION:This is where you learn how to bake!
URL:https://futurearmyofficers.com/event/baking-for-beginners/2030-11-19/
LOCATION:Bob’s Bakery\, N 789 nowhere special\, Anytown\, PA\, 55555\, United States
CATEGORIES:Classes
END:VEVENT
BEGIN:VEVENT
DTSTART;TZID=Europe/Paris:20301123T140000
DTEND;TZID=Europe/Paris:20301123T170000
DTSTAMP:20260419T213706
CREATED:20260125T034453Z
LAST-MODIFIED:20260125T034839Z
UID:10000258-1921672800-1921683600@futurearmyofficers.com
SUMMARY:Dance lessons!
DESCRIPTION:
URL:https://futurearmyofficers.com/event/dance-lessons/2030-11-23/
LOCATION:Diana’s Dance Dormatory\, N 456 nowhere special\, Anytown\, PA\, 55555\, United States
CATEGORIES:Classes
END:VEVENT
BEGIN:VEVENT
DTSTART;TZID=Europe/Paris:20301126T080000
DTEND;TZID=Europe/Paris:20301126T170000
DTSTAMP:20260419T213706
CREATED:20260125T034718Z
LAST-MODIFIED:20260125T034718Z
UID:10000522-1921910400-1921942800@futurearmyofficers.com
SUMMARY:Baking for beginners!
DESCRIPTION:This is where you learn how to bake!
URL:https://futurearmyofficers.com/event/baking-for-beginners/2030-11-26/
LOCATION:Bob’s Bakery\, N 789 nowhere special\, Anytown\, PA\, 55555\, United States
CATEGORIES:Classes
END:VEVENT
BEGIN:VEVENT
DTSTART;TZID=Europe/Paris:20301130T140000
DTEND;TZID=Europe/Paris:20301130T170000
DTSTAMP:20260419T213706
CREATED:20260125T034453Z
LAST-MODIFIED:20260125T034839Z
UID:10000259-1922277600-1922288400@futurearmyofficers.com
SUMMARY:Dance lessons!
DESCRIPTION:
URL:https://futurearmyofficers.com/event/dance-lessons/2030-11-30/
LOCATION:Diana’s Dance Dormatory\, N 456 nowhere special\, Anytown\, PA\, 55555\, United States
CATEGORIES:Classes
END:VEVENT
BEGIN:VEVENT
DTSTART;TZID=Europe/Paris:20301203T080000
DTEND;TZID=Europe/Paris:20301203T170000
DTSTAMP:20260419T213706
CREATED:20260125T034718Z
LAST-MODIFIED:20260125T034718Z
UID:10000523-1922515200-1922547600@futurearmyofficers.com
SUMMARY:Baking for beginners!
DESCRIPTION:This is where you learn how to bake!
URL:https://futurearmyofficers.com/event/baking-for-beginners/2030-12-03/
LOCATION:Bob’s Bakery\, N 789 nowhere special\, Anytown\, PA\, 55555\, United States
CATEGORIES:Classes
END:VEVENT
BEGIN:VEVENT
DTSTART;TZID=Europe/Paris:20301207T140000
DTEND;TZID=Europe/Paris:20301207T170000
DTSTAMP:20260419T213706
CREATED:20260125T034453Z
LAST-MODIFIED:20260125T034839Z
UID:10000260-1922882400-1922893200@futurearmyofficers.com
SUMMARY:Dance lessons!
DESCRIPTION:
URL:https://futurearmyofficers.com/event/dance-lessons/2030-12-07/
LOCATION:Diana’s Dance Dormatory\, N 456 nowhere special\, Anytown\, PA\, 55555\, United States
CATEGORIES:Classes
END:VEVENT
BEGIN:VEVENT
DTSTART;TZID=Europe/Paris:20301210T080000
DTEND;TZID=Europe/Paris:20301210T170000
DTSTAMP:20260419T213706
CREATED:20260125T034718Z
LAST-MODIFIED:20260125T034718Z
UID:10000524-1923120000-1923152400@futurearmyofficers.com
SUMMARY:Baking for beginners!
DESCRIPTION:This is where you learn how to bake!
URL:https://futurearmyofficers.com/event/baking-for-beginners/2030-12-10/
LOCATION:Bob’s Bakery\, N 789 nowhere special\, Anytown\, PA\, 55555\, United States
CATEGORIES:Classes
END:VEVENT
BEGIN:VEVENT
DTSTART;TZID=Europe/Paris:20301214T140000
DTEND;TZID=Europe/Paris:20301214T170000
DTSTAMP:20260419T213706
CREATED:20260125T034453Z
LAST-MODIFIED:20260125T034839Z
UID:10000261-1923487200-1923498000@futurearmyofficers.com
SUMMARY:Dance lessons!
DESCRIPTION:
URL:https://futurearmyofficers.com/event/dance-lessons/2030-12-14/
LOCATION:Diana’s Dance Dormatory\, N 456 nowhere special\, Anytown\, PA\, 55555\, United States
CATEGORIES:Classes
END:VEVENT
BEGIN:VEVENT
DTSTART;TZID=Europe/Paris:20301217T080000
DTEND;TZID=Europe/Paris:20301217T170000
DTSTAMP:20260419T213706
CREATED:20260125T034718Z
LAST-MODIFIED:20260125T034718Z
UID:10000525-1923724800-1923757200@futurearmyofficers.com
SUMMARY:Baking for beginners!
DESCRIPTION:This is where you learn how to bake!
URL:https://futurearmyofficers.com/event/baking-for-beginners/2030-12-17/
LOCATION:Bob’s Bakery\, N 789 nowhere special\, Anytown\, PA\, 55555\, United States
CATEGORIES:Classes
END:VEVENT
BEGIN:VEVENT
DTSTART;TZID=Europe/Paris:20301221T140000
DTEND;TZID=Europe/Paris:20301221T170000
DTSTAMP:20260419T213706
CREATED:20260125T034453Z
LAST-MODIFIED:20260125T034839Z
UID:10000262-1924092000-1924102800@futurearmyofficers.com
SUMMARY:Dance lessons!
DESCRIPTION:
URL:https://futurearmyofficers.com/event/dance-lessons/2030-12-21/
LOCATION:Diana’s Dance Dormatory\, N 456 nowhere special\, Anytown\, PA\, 55555\, United States
CATEGORIES:Classes
END:VEVENT
BEGIN:VEVENT
DTSTART;TZID=Europe/Paris:20301224T080000
DTEND;TZID=Europe/Paris:20301224T170000
DTSTAMP:20260419T213706
CREATED:20260125T034718Z
LAST-MODIFIED:20260125T034718Z
UID:10000526-1924329600-1924362000@futurearmyofficers.com
SUMMARY:Baking for beginners!
DESCRIPTION:This is where you learn how to bake!
URL:https://futurearmyofficers.com/event/baking-for-beginners/2030-12-24/
LOCATION:Bob’s Bakery\, N 789 nowhere special\, Anytown\, PA\, 55555\, United States
CATEGORIES:Classes
END:VEVENT
BEGIN:VEVENT
DTSTART;TZID=Europe/Paris:20301228T140000
DTEND;TZID=Europe/Paris:20301228T170000
DTSTAMP:20260419T213706
CREATED:20260125T034453Z
LAST-MODIFIED:20260125T034839Z
UID:10000263-1924696800-1924707600@futurearmyofficers.com
SUMMARY:Dance lessons!
DESCRIPTION:
URL:https://futurearmyofficers.com/event/dance-lessons/2030-12-28/
LOCATION:Diana’s Dance Dormatory\, N 456 nowhere special\, Anytown\, PA\, 55555\, United States
CATEGORIES:Classes
END:VEVENT
BEGIN:VEVENT
DTSTART;TZID=Europe/Paris:20301231T080000
DTEND;TZID=Europe/Paris:20301231T170000
DTSTAMP:20260419T213706
CREATED:20260125T034718Z
LAST-MODIFIED:20260125T034718Z
UID:10000527-1924934400-1924966800@futurearmyofficers.com
SUMMARY:Baking for beginners!
DESCRIPTION:This is where you learn how to bake!
URL:https://futurearmyofficers.com/event/baking-for-beginners/2030-12-31/
LOCATION:Bob’s Bakery\, N 789 nowhere special\, Anytown\, PA\, 55555\, United States
CATEGORIES:Classes
END:VEVENT
BEGIN:VEVENT
DTSTART;TZID=Europe/Paris:20310104T140000
DTEND;TZID=Europe/Paris:20310104T170000
DTSTAMP:20260419T213706
CREATED:20260125T034453Z
LAST-MODIFIED:20260125T034839Z
UID:10000264-1925301600-1925312400@futurearmyofficers.com
SUMMARY:Dance lessons!
DESCRIPTION:
URL:https://futurearmyofficers.com/event/dance-lessons/2031-01-04/
LOCATION:Diana’s Dance Dormatory\, N 456 nowhere special\, Anytown\, PA\, 55555\, United States
CATEGORIES:Classes
END:VEVENT
BEGIN:VEVENT
DTSTART;TZID=Europe/Paris:20310107T080000
DTEND;TZID=Europe/Paris:20310107T170000
DTSTAMP:20260419T213706
CREATED:20260125T034718Z
LAST-MODIFIED:20260125T034718Z
UID:10000528-1925539200-1925571600@futurearmyofficers.com
SUMMARY:Baking for beginners!
DESCRIPTION:This is where you learn how to bake!
URL:https://futurearmyofficers.com/event/baking-for-beginners/2031-01-07/
LOCATION:Bob’s Bakery\, N 789 nowhere special\, Anytown\, PA\, 55555\, United States
CATEGORIES:Classes
END:VEVENT
BEGIN:VEVENT
DTSTART;TZID=Europe/Paris:20310111T140000
DTEND;TZID=Europe/Paris:20310111T170000
DTSTAMP:20260419T213706
CREATED:20260125T034453Z
LAST-MODIFIED:20260125T034839Z
UID:10000265-1925906400-1925917200@futurearmyofficers.com
SUMMARY:Dance lessons!
DESCRIPTION:
URL:https://futurearmyofficers.com/event/dance-lessons/2031-01-11/
LOCATION:Diana’s Dance Dormatory\, N 456 nowhere special\, Anytown\, PA\, 55555\, United States
CATEGORIES:Classes
END:VEVENT
BEGIN:VEVENT
DTSTART;TZID=Europe/Paris:20310114T080000
DTEND;TZID=Europe/Paris:20310114T170000
DTSTAMP:20260419T213706
CREATED:20260125T034718Z
LAST-MODIFIED:20260125T034718Z
UID:10000529-1926144000-1926176400@futurearmyofficers.com
SUMMARY:Baking for beginners!
DESCRIPTION:This is where you learn how to bake!
URL:https://futurearmyofficers.com/event/baking-for-beginners/2031-01-14/
LOCATION:Bob’s Bakery\, N 789 nowhere special\, Anytown\, PA\, 55555\, United States
CATEGORIES:Classes
END:VEVENT
BEGIN:VEVENT
DTSTART;TZID=Europe/Paris:20310118T140000
DTEND;TZID=Europe/Paris:20310118T170000
DTSTAMP:20260419T213706
CREATED:20260125T034453Z
LAST-MODIFIED:20260125T034839Z
UID:10000266-1926511200-1926522000@futurearmyofficers.com
SUMMARY:Dance lessons!
DESCRIPTION:
URL:https://futurearmyofficers.com/event/dance-lessons/2031-01-18/
LOCATION:Diana’s Dance Dormatory\, N 456 nowhere special\, Anytown\, PA\, 55555\, United States
CATEGORIES:Classes
END:VEVENT
END:VCALENDAR