BEGIN:VCALENDAR
VERSION:2.0
PRODID:-//Future Army Officers - ECPv6.15.14//NONSGML v1.0//EN
CALSCALE:GREGORIAN
METHOD:PUBLISH
X-WR-CALNAME:Future Army Officers
X-ORIGINAL-URL:https://futurearmyofficers.com
X-WR-CALDESC:Events for Future Army Officers
REFRESH-INTERVAL;VALUE=DURATION:PT1H
X-Robots-Tag:noindex
X-PUBLISHED-TTL:PT1H
BEGIN:VTIMEZONE
TZID:Europe/Paris
BEGIN:DAYLIGHT
TZOFFSETFROM:+0100
TZOFFSETTO:+0200
TZNAME:CEST
DTSTART:20270328T010000
END:DAYLIGHT
BEGIN:STANDARD
TZOFFSETFROM:+0200
TZOFFSETTO:+0100
TZNAME:CET
DTSTART:20271031T010000
END:STANDARD
BEGIN:DAYLIGHT
TZOFFSETFROM:+0100
TZOFFSETTO:+0200
TZNAME:CEST
DTSTART:20280326T010000
END:DAYLIGHT
BEGIN:STANDARD
TZOFFSETFROM:+0200
TZOFFSETTO:+0100
TZNAME:CET
DTSTART:20281029T010000
END:STANDARD
BEGIN:DAYLIGHT
TZOFFSETFROM:+0100
TZOFFSETTO:+0200
TZNAME:CEST
DTSTART:20290325T010000
END:DAYLIGHT
BEGIN:STANDARD
TZOFFSETFROM:+0200
TZOFFSETTO:+0100
TZNAME:CET
DTSTART:20291028T010000
END:STANDARD
END:VTIMEZONE
BEGIN:VEVENT
DTSTART;TZID=Europe/Paris:20280701T140000
DTEND;TZID=Europe/Paris:20280701T170000
DTSTAMP:20260423T115805
CREATED:20260125T034453Z
LAST-MODIFIED:20260125T034839Z
UID:10000133-1846072800-1846083600@futurearmyofficers.com
SUMMARY:Dance lessons!
DESCRIPTION:
URL:https://futurearmyofficers.com/event/dance-lessons/2028-07-01/
LOCATION:Diana’s Dance Dormatory\, N 456 nowhere special\, Anytown\, PA\, 55555\, United States
CATEGORIES:Classes
END:VEVENT
BEGIN:VEVENT
DTSTART;TZID=Europe/Paris:20280704T080000
DTEND;TZID=Europe/Paris:20280704T170000
DTSTAMP:20260423T115805
CREATED:20260125T034718Z
LAST-MODIFIED:20260125T034718Z
UID:10000397-1846310400-1846342800@futurearmyofficers.com
SUMMARY:Baking for beginners!
DESCRIPTION:This is where you learn how to bake!
URL:https://futurearmyofficers.com/event/baking-for-beginners/2028-07-04/
LOCATION:Bob’s Bakery\, N 789 nowhere special\, Anytown\, PA\, 55555\, United States
CATEGORIES:Classes
END:VEVENT
BEGIN:VEVENT
DTSTART;TZID=Europe/Paris:20280708T140000
DTEND;TZID=Europe/Paris:20280708T170000
DTSTAMP:20260423T115805
CREATED:20260125T034453Z
LAST-MODIFIED:20260125T034839Z
UID:10000134-1846677600-1846688400@futurearmyofficers.com
SUMMARY:Dance lessons!
DESCRIPTION:
URL:https://futurearmyofficers.com/event/dance-lessons/2028-07-08/
LOCATION:Diana’s Dance Dormatory\, N 456 nowhere special\, Anytown\, PA\, 55555\, United States
CATEGORIES:Classes
END:VEVENT
BEGIN:VEVENT
DTSTART;TZID=Europe/Paris:20280711T080000
DTEND;TZID=Europe/Paris:20280711T170000
DTSTAMP:20260423T115805
CREATED:20260125T034718Z
LAST-MODIFIED:20260125T034718Z
UID:10000398-1846915200-1846947600@futurearmyofficers.com
SUMMARY:Baking for beginners!
DESCRIPTION:This is where you learn how to bake!
URL:https://futurearmyofficers.com/event/baking-for-beginners/2028-07-11/
LOCATION:Bob’s Bakery\, N 789 nowhere special\, Anytown\, PA\, 55555\, United States
CATEGORIES:Classes
END:VEVENT
BEGIN:VEVENT
DTSTART;TZID=Europe/Paris:20280715T140000
DTEND;TZID=Europe/Paris:20280715T170000
DTSTAMP:20260423T115805
CREATED:20260125T034453Z
LAST-MODIFIED:20260125T034839Z
UID:10000135-1847282400-1847293200@futurearmyofficers.com
SUMMARY:Dance lessons!
DESCRIPTION:
URL:https://futurearmyofficers.com/event/dance-lessons/2028-07-15/
LOCATION:Diana’s Dance Dormatory\, N 456 nowhere special\, Anytown\, PA\, 55555\, United States
CATEGORIES:Classes
END:VEVENT
BEGIN:VEVENT
DTSTART;TZID=Europe/Paris:20280718T080000
DTEND;TZID=Europe/Paris:20280718T170000
DTSTAMP:20260423T115805
CREATED:20260125T034718Z
LAST-MODIFIED:20260125T034718Z
UID:10000399-1847520000-1847552400@futurearmyofficers.com
SUMMARY:Baking for beginners!
DESCRIPTION:This is where you learn how to bake!
URL:https://futurearmyofficers.com/event/baking-for-beginners/2028-07-18/
LOCATION:Bob’s Bakery\, N 789 nowhere special\, Anytown\, PA\, 55555\, United States
CATEGORIES:Classes
END:VEVENT
BEGIN:VEVENT
DTSTART;TZID=Europe/Paris:20280722T140000
DTEND;TZID=Europe/Paris:20280722T170000
DTSTAMP:20260423T115805
CREATED:20260125T034453Z
LAST-MODIFIED:20260125T034839Z
UID:10000136-1847887200-1847898000@futurearmyofficers.com
SUMMARY:Dance lessons!
DESCRIPTION:
URL:https://futurearmyofficers.com/event/dance-lessons/2028-07-22/
LOCATION:Diana’s Dance Dormatory\, N 456 nowhere special\, Anytown\, PA\, 55555\, United States
CATEGORIES:Classes
END:VEVENT
BEGIN:VEVENT
DTSTART;TZID=Europe/Paris:20280725T080000
DTEND;TZID=Europe/Paris:20280725T170000
DTSTAMP:20260423T115805
CREATED:20260125T034718Z
LAST-MODIFIED:20260125T034718Z
UID:10000400-1848124800-1848157200@futurearmyofficers.com
SUMMARY:Baking for beginners!
DESCRIPTION:This is where you learn how to bake!
URL:https://futurearmyofficers.com/event/baking-for-beginners/2028-07-25/
LOCATION:Bob’s Bakery\, N 789 nowhere special\, Anytown\, PA\, 55555\, United States
CATEGORIES:Classes
END:VEVENT
BEGIN:VEVENT
DTSTART;TZID=Europe/Paris:20280729T140000
DTEND;TZID=Europe/Paris:20280729T170000
DTSTAMP:20260423T115805
CREATED:20260125T034453Z
LAST-MODIFIED:20260125T034839Z
UID:10000137-1848492000-1848502800@futurearmyofficers.com
SUMMARY:Dance lessons!
DESCRIPTION:
URL:https://futurearmyofficers.com/event/dance-lessons/2028-07-29/
LOCATION:Diana’s Dance Dormatory\, N 456 nowhere special\, Anytown\, PA\, 55555\, United States
CATEGORIES:Classes
END:VEVENT
END:VCALENDAR