BEGIN:VCALENDAR
VERSION:2.0
PRODID:-//Future Army Officers - ECPv6.15.14//NONSGML v1.0//EN
CALSCALE:GREGORIAN
METHOD:PUBLISH
X-ORIGINAL-URL:https://futurearmyofficers.com
X-WR-CALDESC:Events for Future Army Officers
REFRESH-INTERVAL;VALUE=DURATION:PT1H
X-Robots-Tag:noindex
X-PUBLISHED-TTL:PT1H
BEGIN:VTIMEZONE
TZID:Europe/Paris
BEGIN:DAYLIGHT
TZOFFSETFROM:+0100
TZOFFSETTO:+0200
TZNAME:CEST
DTSTART:20270328T010000
END:DAYLIGHT
BEGIN:STANDARD
TZOFFSETFROM:+0200
TZOFFSETTO:+0100
TZNAME:CET
DTSTART:20271031T010000
END:STANDARD
BEGIN:DAYLIGHT
TZOFFSETFROM:+0100
TZOFFSETTO:+0200
TZNAME:CEST
DTSTART:20280326T010000
END:DAYLIGHT
BEGIN:STANDARD
TZOFFSETFROM:+0200
TZOFFSETTO:+0100
TZNAME:CET
DTSTART:20281029T010000
END:STANDARD
BEGIN:DAYLIGHT
TZOFFSETFROM:+0100
TZOFFSETTO:+0200
TZNAME:CEST
DTSTART:20290325T010000
END:DAYLIGHT
BEGIN:STANDARD
TZOFFSETFROM:+0200
TZOFFSETTO:+0100
TZNAME:CET
DTSTART:20291028T010000
END:STANDARD
END:VTIMEZONE
BEGIN:VEVENT
DTSTART;TZID=Europe/Paris:20280502T080000
DTEND;TZID=Europe/Paris:20280502T170000
DTSTAMP:20260423T045307
CREATED:20260125T034718Z
LAST-MODIFIED:20260125T034718Z
UID:10000388-1840867200-1840899600@futurearmyofficers.com
SUMMARY:Baking for beginners!
DESCRIPTION:This is where you learn how to bake!
URL:https://futurearmyofficers.com/event/baking-for-beginners/2028-05-02/
LOCATION:Bob’s Bakery\, N 789 nowhere special\, Anytown\, PA\, 55555\, United States
CATEGORIES:Classes
END:VEVENT
BEGIN:VEVENT
DTSTART;TZID=Europe/Paris:20280506T140000
DTEND;TZID=Europe/Paris:20280506T170000
DTSTAMP:20260423T045307
CREATED:20260125T034453Z
LAST-MODIFIED:20260125T034839Z
UID:10000125-1841234400-1841245200@futurearmyofficers.com
SUMMARY:Dance lessons!
DESCRIPTION:
URL:https://futurearmyofficers.com/event/dance-lessons/2028-05-06/
LOCATION:Diana’s Dance Dormatory\, N 456 nowhere special\, Anytown\, PA\, 55555\, United States
CATEGORIES:Classes
END:VEVENT
BEGIN:VEVENT
DTSTART;TZID=Europe/Paris:20280509T080000
DTEND;TZID=Europe/Paris:20280509T170000
DTSTAMP:20260423T045307
CREATED:20260125T034718Z
LAST-MODIFIED:20260125T034718Z
UID:10000389-1841472000-1841504400@futurearmyofficers.com
SUMMARY:Baking for beginners!
DESCRIPTION:This is where you learn how to bake!
URL:https://futurearmyofficers.com/event/baking-for-beginners/2028-05-09/
LOCATION:Bob’s Bakery\, N 789 nowhere special\, Anytown\, PA\, 55555\, United States
CATEGORIES:Classes
END:VEVENT
BEGIN:VEVENT
DTSTART;TZID=Europe/Paris:20280513T140000
DTEND;TZID=Europe/Paris:20280513T170000
DTSTAMP:20260423T045307
CREATED:20260125T034453Z
LAST-MODIFIED:20260125T034839Z
UID:10000126-1841839200-1841850000@futurearmyofficers.com
SUMMARY:Dance lessons!
DESCRIPTION:
URL:https://futurearmyofficers.com/event/dance-lessons/2028-05-13/
LOCATION:Diana’s Dance Dormatory\, N 456 nowhere special\, Anytown\, PA\, 55555\, United States
CATEGORIES:Classes
END:VEVENT
BEGIN:VEVENT
DTSTART;TZID=Europe/Paris:20280516T080000
DTEND;TZID=Europe/Paris:20280516T170000
DTSTAMP:20260423T045307
CREATED:20260125T034718Z
LAST-MODIFIED:20260125T034718Z
UID:10000390-1842076800-1842109200@futurearmyofficers.com
SUMMARY:Baking for beginners!
DESCRIPTION:This is where you learn how to bake!
URL:https://futurearmyofficers.com/event/baking-for-beginners/2028-05-16/
LOCATION:Bob’s Bakery\, N 789 nowhere special\, Anytown\, PA\, 55555\, United States
CATEGORIES:Classes
END:VEVENT
BEGIN:VEVENT
DTSTART;TZID=Europe/Paris:20280520T140000
DTEND;TZID=Europe/Paris:20280520T170000
DTSTAMP:20260423T045307
CREATED:20260125T034453Z
LAST-MODIFIED:20260125T034839Z
UID:10000127-1842444000-1842454800@futurearmyofficers.com
SUMMARY:Dance lessons!
DESCRIPTION:
URL:https://futurearmyofficers.com/event/dance-lessons/2028-05-20/
LOCATION:Diana’s Dance Dormatory\, N 456 nowhere special\, Anytown\, PA\, 55555\, United States
CATEGORIES:Classes
END:VEVENT
BEGIN:VEVENT
DTSTART;TZID=Europe/Paris:20280523T080000
DTEND;TZID=Europe/Paris:20280523T170000
DTSTAMP:20260423T045307
CREATED:20260125T034718Z
LAST-MODIFIED:20260125T034718Z
UID:10000391-1842681600-1842714000@futurearmyofficers.com
SUMMARY:Baking for beginners!
DESCRIPTION:This is where you learn how to bake!
URL:https://futurearmyofficers.com/event/baking-for-beginners/2028-05-23/
LOCATION:Bob’s Bakery\, N 789 nowhere special\, Anytown\, PA\, 55555\, United States
CATEGORIES:Classes
END:VEVENT
BEGIN:VEVENT
DTSTART;TZID=Europe/Paris:20280527T140000
DTEND;TZID=Europe/Paris:20280527T170000
DTSTAMP:20260423T045307
CREATED:20260125T034453Z
LAST-MODIFIED:20260125T034839Z
UID:10000128-1843048800-1843059600@futurearmyofficers.com
SUMMARY:Dance lessons!
DESCRIPTION:
URL:https://futurearmyofficers.com/event/dance-lessons/2028-05-27/
LOCATION:Diana’s Dance Dormatory\, N 456 nowhere special\, Anytown\, PA\, 55555\, United States
CATEGORIES:Classes
END:VEVENT
BEGIN:VEVENT
DTSTART;TZID=Europe/Paris:20280530T080000
DTEND;TZID=Europe/Paris:20280530T170000
DTSTAMP:20260423T045307
CREATED:20260125T034718Z
LAST-MODIFIED:20260125T034718Z
UID:10000392-1843286400-1843318800@futurearmyofficers.com
SUMMARY:Baking for beginners!
DESCRIPTION:This is where you learn how to bake!
URL:https://futurearmyofficers.com/event/baking-for-beginners/2028-05-30/
LOCATION:Bob’s Bakery\, N 789 nowhere special\, Anytown\, PA\, 55555\, United States
CATEGORIES:Classes
END:VEVENT
END:VCALENDAR