BEGIN:VCALENDAR
VERSION:2.0
PRODID:-//Future Army Officers - ECPv6.15.14//NONSGML v1.0//EN
CALSCALE:GREGORIAN
METHOD:PUBLISH
X-ORIGINAL-URL:https://futurearmyofficers.com
X-WR-CALDESC:Events for Future Army Officers
REFRESH-INTERVAL;VALUE=DURATION:PT1H
X-Robots-Tag:noindex
X-PUBLISHED-TTL:PT1H
BEGIN:VTIMEZONE
TZID:Europe/Paris
BEGIN:DAYLIGHT
TZOFFSETFROM:+0100
TZOFFSETTO:+0200
TZNAME:CEST
DTSTART:20270328T010000
END:DAYLIGHT
BEGIN:STANDARD
TZOFFSETFROM:+0200
TZOFFSETTO:+0100
TZNAME:CET
DTSTART:20271031T010000
END:STANDARD
BEGIN:DAYLIGHT
TZOFFSETFROM:+0100
TZOFFSETTO:+0200
TZNAME:CEST
DTSTART:20280326T010000
END:DAYLIGHT
BEGIN:STANDARD
TZOFFSETFROM:+0200
TZOFFSETTO:+0100
TZNAME:CET
DTSTART:20281029T010000
END:STANDARD
BEGIN:DAYLIGHT
TZOFFSETFROM:+0100
TZOFFSETTO:+0200
TZNAME:CEST
DTSTART:20290325T010000
END:DAYLIGHT
BEGIN:STANDARD
TZOFFSETFROM:+0200
TZOFFSETTO:+0100
TZNAME:CET
DTSTART:20291028T010000
END:STANDARD
END:VTIMEZONE
BEGIN:VEVENT
DTSTART;TZID=Europe/Paris:20280201T080000
DTEND;TZID=Europe/Paris:20280201T170000
DTSTAMP:20260420T100820
CREATED:20260125T034718Z
LAST-MODIFIED:20260125T034718Z
UID:10000375-1833004800-1833037200@futurearmyofficers.com
SUMMARY:Baking for beginners!
DESCRIPTION:This is where you learn how to bake!
URL:https://futurearmyofficers.com/event/baking-for-beginners/2028-02-01/
LOCATION:Bob’s Bakery\, N 789 nowhere special\, Anytown\, PA\, 55555\, United States
CATEGORIES:Classes
END:VEVENT
BEGIN:VEVENT
DTSTART;TZID=Europe/Paris:20280205T140000
DTEND;TZID=Europe/Paris:20280205T170000
DTSTAMP:20260420T100820
CREATED:20260125T034453Z
LAST-MODIFIED:20260125T034839Z
UID:10000112-1833372000-1833382800@futurearmyofficers.com
SUMMARY:Dance lessons!
DESCRIPTION:
URL:https://futurearmyofficers.com/event/dance-lessons/2028-02-05/
LOCATION:Diana’s Dance Dormatory\, N 456 nowhere special\, Anytown\, PA\, 55555\, United States
CATEGORIES:Classes
END:VEVENT
BEGIN:VEVENT
DTSTART;TZID=Europe/Paris:20280208T080000
DTEND;TZID=Europe/Paris:20280208T170000
DTSTAMP:20260420T100820
CREATED:20260125T034718Z
LAST-MODIFIED:20260125T034718Z
UID:10000376-1833609600-1833642000@futurearmyofficers.com
SUMMARY:Baking for beginners!
DESCRIPTION:This is where you learn how to bake!
URL:https://futurearmyofficers.com/event/baking-for-beginners/2028-02-08/
LOCATION:Bob’s Bakery\, N 789 nowhere special\, Anytown\, PA\, 55555\, United States
CATEGORIES:Classes
END:VEVENT
BEGIN:VEVENT
DTSTART;TZID=Europe/Paris:20280212T140000
DTEND;TZID=Europe/Paris:20280212T170000
DTSTAMP:20260420T100820
CREATED:20260125T034453Z
LAST-MODIFIED:20260125T034839Z
UID:10000113-1833976800-1833987600@futurearmyofficers.com
SUMMARY:Dance lessons!
DESCRIPTION:
URL:https://futurearmyofficers.com/event/dance-lessons/2028-02-12/
LOCATION:Diana’s Dance Dormatory\, N 456 nowhere special\, Anytown\, PA\, 55555\, United States
CATEGORIES:Classes
END:VEVENT
BEGIN:VEVENT
DTSTART;TZID=Europe/Paris:20280215T080000
DTEND;TZID=Europe/Paris:20280215T170000
DTSTAMP:20260420T100820
CREATED:20260125T034718Z
LAST-MODIFIED:20260125T034718Z
UID:10000377-1834214400-1834246800@futurearmyofficers.com
SUMMARY:Baking for beginners!
DESCRIPTION:This is where you learn how to bake!
URL:https://futurearmyofficers.com/event/baking-for-beginners/2028-02-15/
LOCATION:Bob’s Bakery\, N 789 nowhere special\, Anytown\, PA\, 55555\, United States
CATEGORIES:Classes
END:VEVENT
BEGIN:VEVENT
DTSTART;TZID=Europe/Paris:20280219T140000
DTEND;TZID=Europe/Paris:20280219T170000
DTSTAMP:20260420T100820
CREATED:20260125T034453Z
LAST-MODIFIED:20260125T034839Z
UID:10000114-1834581600-1834592400@futurearmyofficers.com
SUMMARY:Dance lessons!
DESCRIPTION:
URL:https://futurearmyofficers.com/event/dance-lessons/2028-02-19/
LOCATION:Diana’s Dance Dormatory\, N 456 nowhere special\, Anytown\, PA\, 55555\, United States
CATEGORIES:Classes
END:VEVENT
BEGIN:VEVENT
DTSTART;TZID=Europe/Paris:20280222T080000
DTEND;TZID=Europe/Paris:20280222T170000
DTSTAMP:20260420T100820
CREATED:20260125T034718Z
LAST-MODIFIED:20260125T034718Z
UID:10000378-1834819200-1834851600@futurearmyofficers.com
SUMMARY:Baking for beginners!
DESCRIPTION:This is where you learn how to bake!
URL:https://futurearmyofficers.com/event/baking-for-beginners/2028-02-22/
LOCATION:Bob’s Bakery\, N 789 nowhere special\, Anytown\, PA\, 55555\, United States
CATEGORIES:Classes
END:VEVENT
BEGIN:VEVENT
DTSTART;TZID=Europe/Paris:20280226T140000
DTEND;TZID=Europe/Paris:20280226T170000
DTSTAMP:20260420T100820
CREATED:20260125T034453Z
LAST-MODIFIED:20260125T034839Z
UID:10000115-1835186400-1835197200@futurearmyofficers.com
SUMMARY:Dance lessons!
DESCRIPTION:
URL:https://futurearmyofficers.com/event/dance-lessons/2028-02-26/
LOCATION:Diana’s Dance Dormatory\, N 456 nowhere special\, Anytown\, PA\, 55555\, United States
CATEGORIES:Classes
END:VEVENT
BEGIN:VEVENT
DTSTART;TZID=Europe/Paris:20280229T080000
DTEND;TZID=Europe/Paris:20280229T170000
DTSTAMP:20260420T100820
CREATED:20260125T034718Z
LAST-MODIFIED:20260125T034718Z
UID:10000379-1835424000-1835456400@futurearmyofficers.com
SUMMARY:Baking for beginners!
DESCRIPTION:This is where you learn how to bake!
URL:https://futurearmyofficers.com/event/baking-for-beginners/2028-02-29/
LOCATION:Bob’s Bakery\, N 789 nowhere special\, Anytown\, PA\, 55555\, United States
CATEGORIES:Classes
END:VEVENT
END:VCALENDAR