BEGIN:VCALENDAR
VERSION:2.0
PRODID:-//Future Army Officers - ECPv6.15.14//NONSGML v1.0//EN
CALSCALE:GREGORIAN
METHOD:PUBLISH
X-ORIGINAL-URL:https://futurearmyofficers.com
X-WR-CALDESC:Events for Future Army Officers
REFRESH-INTERVAL;VALUE=DURATION:PT1H
X-Robots-Tag:noindex
X-PUBLISHED-TTL:PT1H
BEGIN:VTIMEZONE
TZID:Europe/Paris
BEGIN:DAYLIGHT
TZOFFSETFROM:+0100
TZOFFSETTO:+0200
TZNAME:CEST
DTSTART:20260329T010000
END:DAYLIGHT
BEGIN:STANDARD
TZOFFSETFROM:+0200
TZOFFSETTO:+0100
TZNAME:CET
DTSTART:20261025T010000
END:STANDARD
BEGIN:DAYLIGHT
TZOFFSETFROM:+0100
TZOFFSETTO:+0200
TZNAME:CEST
DTSTART:20270328T010000
END:DAYLIGHT
BEGIN:STANDARD
TZOFFSETFROM:+0200
TZOFFSETTO:+0100
TZNAME:CET
DTSTART:20271031T010000
END:STANDARD
BEGIN:DAYLIGHT
TZOFFSETFROM:+0100
TZOFFSETTO:+0200
TZNAME:CEST
DTSTART:20280326T010000
END:DAYLIGHT
BEGIN:STANDARD
TZOFFSETFROM:+0200
TZOFFSETTO:+0100
TZNAME:CET
DTSTART:20281029T010000
END:STANDARD
END:VTIMEZONE
BEGIN:VEVENT
DTSTART;TZID=Europe/Paris:20271002T140000
DTEND;TZID=Europe/Paris:20271002T170000
DTSTAMP:20260420T015937
CREATED:20260125T034453Z
LAST-MODIFIED:20260125T034839Z
UID:10000094-1822485600-1822496400@futurearmyofficers.com
SUMMARY:Dance lessons!
DESCRIPTION:
URL:https://futurearmyofficers.com/event/dance-lessons/2027-10-02/
LOCATION:Diana’s Dance Dormatory\, N 456 nowhere special\, Anytown\, PA\, 55555\, United States
CATEGORIES:Classes
END:VEVENT
BEGIN:VEVENT
DTSTART;TZID=Europe/Paris:20271005T080000
DTEND;TZID=Europe/Paris:20271005T170000
DTSTAMP:20260420T015937
CREATED:20260125T034718Z
LAST-MODIFIED:20260125T034718Z
UID:10000358-1822723200-1822755600@futurearmyofficers.com
SUMMARY:Baking for beginners!
DESCRIPTION:This is where you learn how to bake!
URL:https://futurearmyofficers.com/event/baking-for-beginners/2027-10-05/
LOCATION:Bob’s Bakery\, N 789 nowhere special\, Anytown\, PA\, 55555\, United States
CATEGORIES:Classes
END:VEVENT
BEGIN:VEVENT
DTSTART;TZID=Europe/Paris:20271009T140000
DTEND;TZID=Europe/Paris:20271009T170000
DTSTAMP:20260420T015937
CREATED:20260125T034453Z
LAST-MODIFIED:20260125T034839Z
UID:10000095-1823090400-1823101200@futurearmyofficers.com
SUMMARY:Dance lessons!
DESCRIPTION:
URL:https://futurearmyofficers.com/event/dance-lessons/2027-10-09/
LOCATION:Diana’s Dance Dormatory\, N 456 nowhere special\, Anytown\, PA\, 55555\, United States
CATEGORIES:Classes
END:VEVENT
BEGIN:VEVENT
DTSTART;TZID=Europe/Paris:20271012T080000
DTEND;TZID=Europe/Paris:20271012T170000
DTSTAMP:20260420T015937
CREATED:20260125T034718Z
LAST-MODIFIED:20260125T034718Z
UID:10000359-1823328000-1823360400@futurearmyofficers.com
SUMMARY:Baking for beginners!
DESCRIPTION:This is where you learn how to bake!
URL:https://futurearmyofficers.com/event/baking-for-beginners/2027-10-12/
LOCATION:Bob’s Bakery\, N 789 nowhere special\, Anytown\, PA\, 55555\, United States
CATEGORIES:Classes
END:VEVENT
BEGIN:VEVENT
DTSTART;TZID=Europe/Paris:20271016T140000
DTEND;TZID=Europe/Paris:20271016T170000
DTSTAMP:20260420T015937
CREATED:20260125T034453Z
LAST-MODIFIED:20260125T034839Z
UID:10000096-1823695200-1823706000@futurearmyofficers.com
SUMMARY:Dance lessons!
DESCRIPTION:
URL:https://futurearmyofficers.com/event/dance-lessons/2027-10-16/
LOCATION:Diana’s Dance Dormatory\, N 456 nowhere special\, Anytown\, PA\, 55555\, United States
CATEGORIES:Classes
END:VEVENT
BEGIN:VEVENT
DTSTART;TZID=Europe/Paris:20271019T080000
DTEND;TZID=Europe/Paris:20271019T170000
DTSTAMP:20260420T015937
CREATED:20260125T034718Z
LAST-MODIFIED:20260125T034718Z
UID:10000360-1823932800-1823965200@futurearmyofficers.com
SUMMARY:Baking for beginners!
DESCRIPTION:This is where you learn how to bake!
URL:https://futurearmyofficers.com/event/baking-for-beginners/2027-10-19/
LOCATION:Bob’s Bakery\, N 789 nowhere special\, Anytown\, PA\, 55555\, United States
CATEGORIES:Classes
END:VEVENT
BEGIN:VEVENT
DTSTART;TZID=Europe/Paris:20271023T140000
DTEND;TZID=Europe/Paris:20271023T170000
DTSTAMP:20260420T015937
CREATED:20260125T034453Z
LAST-MODIFIED:20260125T034839Z
UID:10000097-1824300000-1824310800@futurearmyofficers.com
SUMMARY:Dance lessons!
DESCRIPTION:
URL:https://futurearmyofficers.com/event/dance-lessons/2027-10-23/
LOCATION:Diana’s Dance Dormatory\, N 456 nowhere special\, Anytown\, PA\, 55555\, United States
CATEGORIES:Classes
END:VEVENT
BEGIN:VEVENT
DTSTART;TZID=Europe/Paris:20271026T080000
DTEND;TZID=Europe/Paris:20271026T170000
DTSTAMP:20260420T015937
CREATED:20260125T034718Z
LAST-MODIFIED:20260125T034718Z
UID:10000361-1824537600-1824570000@futurearmyofficers.com
SUMMARY:Baking for beginners!
DESCRIPTION:This is where you learn how to bake!
URL:https://futurearmyofficers.com/event/baking-for-beginners/2027-10-26/
LOCATION:Bob’s Bakery\, N 789 nowhere special\, Anytown\, PA\, 55555\, United States
CATEGORIES:Classes
END:VEVENT
BEGIN:VEVENT
DTSTART;TZID=Europe/Paris:20271030T140000
DTEND;TZID=Europe/Paris:20271030T170000
DTSTAMP:20260420T015937
CREATED:20260125T034453Z
LAST-MODIFIED:20260125T034839Z
UID:10000098-1824904800-1824915600@futurearmyofficers.com
SUMMARY:Dance lessons!
DESCRIPTION:
URL:https://futurearmyofficers.com/event/dance-lessons/2027-10-30/
LOCATION:Diana’s Dance Dormatory\, N 456 nowhere special\, Anytown\, PA\, 55555\, United States
CATEGORIES:Classes
END:VEVENT
END:VCALENDAR